BEGIN:VCALENDAR
VERSION:2.0
PRODID:-//Goolarri Media - ECPv6.15.20//NONSGML v1.0//EN
CALSCALE:GREGORIAN
METHOD:PUBLISH
X-WR-CALNAME:Goolarri Media
X-ORIGINAL-URL:https://goolarri.com
X-WR-CALDESC:Events for Goolarri Media
REFRESH-INTERVAL;VALUE=DURATION:PT1H
X-Robots-Tag:noindex
X-PUBLISHED-TTL:PT1H
BEGIN:VTIMEZONE
TZID:Asia/Shanghai
BEGIN:STANDARD
TZOFFSETFROM:+0800
TZOFFSETTO:+0800
TZNAME:CST
DTSTART:20240101T000000
END:STANDARD
END:VTIMEZONE
BEGIN:VEVENT
DTSTART;TZID=Asia/Shanghai:20250710T173000
DTEND;TZID=Asia/Shanghai:20250710T213000
DTSTAMP:20260419T230930
CREATED:20250617T021507Z
LAST-MODIFIED:20250617T021507Z
UID:6838-1752168600-1752183000@goolarri.com
SUMMARY:Jarndu-jijawiliwili-niyamarri (Women midden) Nagula Jarndu Designs Exhibition Opening Night
DESCRIPTION:Open to visitors Friday 11th July\, 10:00am-4:00pm through to Sunday 13th
URL:https://goolarri.com/upcoming/jarndu-jijawiliwili-niyamarri-women-midden-nagula-jarndu-designs-exhibition-opening-night/
LOCATION:Old Sailmaker’s Shed\, 67 Robinson Street\, Broome\, WA\, 6725\, Australia
CATEGORIES:NAIDOC
END:VEVENT
END:VCALENDAR