BEGIN:VCALENDAR
VERSION:2.0
PRODID:-//Goolarri Media - ECPv6.15.20//NONSGML v1.0//EN
CALSCALE:GREGORIAN
METHOD:PUBLISH
X-ORIGINAL-URL:https://goolarri.com
X-WR-CALDESC:Events for Goolarri Media
REFRESH-INTERVAL;VALUE=DURATION:PT1H
X-Robots-Tag:noindex
X-PUBLISHED-TTL:PT1H
BEGIN:VTIMEZONE
TZID:Asia/Shanghai
BEGIN:STANDARD
TZOFFSETFROM:+0800
TZOFFSETTO:+0800
TZNAME:CST
DTSTART:20240101T000000
END:STANDARD
END:VTIMEZONE
BEGIN:VEVENT
DTSTART;TZID=Asia/Shanghai:20250706T090000
DTEND;TZID=Asia/Shanghai:20250706T110000
DTSTAMP:20260419T212740
CREATED:20250617T021151Z
LAST-MODIFIED:20250617T021151Z
UID:6836-1751792400-1751799600@goolarri.com
SUMMARY:Mass of the Land of the Holy Spirit
DESCRIPTION:
URL:https://goolarri.com/upcoming/mass-of-the-land-of-the-holy-spirit/
LOCATION:Our Lady Queen of Peace Cathedral\, 32 Weld Street\, Broome\, WA\, 6725\, Australia
CATEGORIES:NAIDOC
END:VEVENT
END:VCALENDAR