BEGIN:VCALENDAR
VERSION:2.0
PRODID:-//Goolarri Media - ECPv6.15.20//NONSGML v1.0//EN
CALSCALE:GREGORIAN
METHOD:PUBLISH
X-WR-CALNAME:Goolarri Media
X-ORIGINAL-URL:https://goolarri.com
X-WR-CALDESC:Events for Goolarri Media
REFRESH-INTERVAL;VALUE=DURATION:PT1H
X-Robots-Tag:noindex
X-PUBLISHED-TTL:PT1H
BEGIN:VTIMEZONE
TZID:Asia/Shanghai
BEGIN:STANDARD
TZOFFSETFROM:+0800
TZOFFSETTO:+0800
TZNAME:CST
DTSTART:20240101T000000
END:STANDARD
END:VTIMEZONE
BEGIN:VEVENT
DTSTART;TZID=Asia/Shanghai:20250704T080000
DTEND;TZID=Asia/Shanghai:20250704T093000
DTSTAMP:20260419T213557
CREATED:20250617T020805Z
LAST-MODIFIED:20250617T020805Z
UID:6830-1751616000-1751621400@goolarri.com
SUMMARY:Sharing Together with One Space
DESCRIPTION:Hosted by Centacare Kimberley
URL:https://goolarri.com/upcoming/sharing-together-with-one-space/
LOCATION:25 Robinson St\, 25 Robinson Street\, Broome\, WA\, 6725\, Australia
CATEGORIES:NAIDOC
END:VEVENT
BEGIN:VEVENT
DTSTART;TZID=Asia/Shanghai:20250704T093000
DTEND;TZID=Asia/Shanghai:20250704T130000
DTSTAMP:20260419T213557
CREATED:20250617T021028Z
LAST-MODIFIED:20250617T021028Z
UID:6833-1751621400-1751634000@goolarri.com
SUMMARY:NAIDOC Open Day
DESCRIPTION:
URL:https://goolarri.com/upcoming/naidoc-open-day/
LOCATION:Milliya Rumurra\, 78 Great Northern Highway\, Broome\, WA\, 6725\, Australia
CATEGORIES:NAIDOC
END:VEVENT
END:VCALENDAR