BEGIN:VCALENDAR
VERSION:2.0
PRODID:-//Goolarri Media - ECPv6.15.20//NONSGML v1.0//EN
CALSCALE:GREGORIAN
METHOD:PUBLISH
X-WR-CALNAME:Goolarri Media
X-ORIGINAL-URL:https://goolarri.com
X-WR-CALDESC:Events for Goolarri Media
REFRESH-INTERVAL;VALUE=DURATION:PT1H
X-Robots-Tag:noindex
X-PUBLISHED-TTL:PT1H
BEGIN:VTIMEZONE
TZID:Asia/Shanghai
BEGIN:STANDARD
TZOFFSETFROM:+0800
TZOFFSETTO:+0800
TZNAME:CST
DTSTART:20240101T000000
END:STANDARD
END:VTIMEZONE
BEGIN:VEVENT
DTSTART;TZID=Asia/Shanghai:20250703T110000
DTEND;TZID=Asia/Shanghai:20250703T130000
DTSTAMP:20260419T214522
CREATED:20250617T020702Z
LAST-MODIFIED:20250617T020702Z
UID:6828-1751540400-1751547600@goolarri.com
SUMMARY:University of Notre Dame NAIDOC Event
DESCRIPTION:
URL:https://goolarri.com/upcoming/university-of-notre-dame-naidoc-event/
LOCATION:Notre Dame University\, Broome\, The Hall NDB10\, 88 Guy Street\, Broome\, WA\, 6725\, Australia
CATEGORIES:NAIDOC
END:VEVENT
END:VCALENDAR