BEGIN:VCALENDAR
VERSION:2.0
PRODID:-//Goolarri Media - ECPv6.15.20//NONSGML v1.0//EN
CALSCALE:GREGORIAN
METHOD:PUBLISH
X-ORIGINAL-URL:https://goolarri.com
X-WR-CALDESC:Events for Goolarri Media
REFRESH-INTERVAL;VALUE=DURATION:PT1H
X-Robots-Tag:noindex
X-PUBLISHED-TTL:PT1H
BEGIN:VTIMEZONE
TZID:Asia/Shanghai
BEGIN:STANDARD
TZOFFSETFROM:+0800
TZOFFSETTO:+0800
TZNAME:CST
DTSTART:20240101T000000
END:STANDARD
END:VTIMEZONE
BEGIN:VEVENT
DTSTART;TZID=Asia/Shanghai:20250630T091500
DTEND;TZID=Asia/Shanghai:20250630T100000
DTSTAMP:20260419T213710
CREATED:20250617T020140Z
LAST-MODIFIED:20250617T020140Z
UID:6820-1751274900-1751277600@goolarri.com
SUMMARY:NAIDOC Liturgy
DESCRIPTION:
URL:https://goolarri.com/upcoming/naidoc-liturgy/
LOCATION:St Mary’s College Primary Campus\, 1 Dakas St\, Cable Beach\, WA\, 6726\, Australia
CATEGORIES:NAIDOC
END:VEVENT
END:VCALENDAR