BEGIN:VCALENDAR
VERSION:2.0
PRODID:-//Goolarri Media - ECPv6.15.20//NONSGML v1.0//EN
CALSCALE:GREGORIAN
METHOD:PUBLISH
X-WR-CALNAME:Goolarri Media
X-ORIGINAL-URL:https://goolarri.com
X-WR-CALDESC:Events for Goolarri Media
REFRESH-INTERVAL;VALUE=DURATION:PT1H
X-Robots-Tag:noindex
X-PUBLISHED-TTL:PT1H
BEGIN:VTIMEZONE
TZID:Asia/Shanghai
BEGIN:STANDARD
TZOFFSETFROM:+0800
TZOFFSETTO:+0800
TZNAME:CST
DTSTART:20230101T000000
END:STANDARD
END:VTIMEZONE
BEGIN:VEVENT
DTSTART;TZID=Asia/Shanghai:20240629T190000
DTEND;TZID=Asia/Shanghai:20240629T233000
DTSTAMP:20260420T084619
CREATED:20240616T235551Z
LAST-MODIFIED:20240617T025649Z
UID:6584-1719687600-1719703800@goolarri.com
SUMMARY:Kullarri NAIDOC Festival Awards Night
DESCRIPTION:Join us for an extraordinary occasion where we come together to honor and uplift the unsung heroes in our communities. It’s a time to applaud their unwavering dedication and express our heartfelt appreciation for their tireless efforts in building a brighter future for all. \nStep into a world of elegance and glamour as we invite you to grace this spectacular event in your most exquisite cocktail dresses and dashing tuxedos. Prepare to be enthralled as the legendary local band\, Puertside\, sets the stage ablaze\, filling the air with irresistible rhythms that will make you dance the night away! \nGet ready to embark on an unforgettable journey from the moment the doors swing open at 7:00. Delight your taste buds with tantalizing cocktail cuisine and refreshing drinks\, as the excitement builds in anticipation of the upcoming awards ceremony. And when the clock strikes\, brace yourself for an enchanting live music performance that will ignite your soul. \nLet’s celebrate\, appreciate\, and create lasting memories together. This remarkable event is not to be missed!
URL:https://goolarri.com/upcoming/kullarri-naidoc-festival-awards-night-2/
LOCATION:Gimme Club\, Goolarri Media 7 Blackman Street\, Broome\, WA\, 6725\, Australia
CATEGORIES:NAIDOC
ORGANIZER;CN="Goolarri":MAILTO:reception@gme.com.au
END:VEVENT
END:VCALENDAR