BEGIN:VCALENDAR
VERSION:2.0
PRODID:-//Goolarri Media - ECPv6.15.20//NONSGML v1.0//EN
CALSCALE:GREGORIAN
METHOD:PUBLISH
X-ORIGINAL-URL:https://goolarri.com
X-WR-CALDESC:Events for Goolarri Media
REFRESH-INTERVAL;VALUE=DURATION:PT1H
X-Robots-Tag:noindex
X-PUBLISHED-TTL:PT1H
BEGIN:VTIMEZONE
TZID:Asia/Shanghai
BEGIN:STANDARD
TZOFFSETFROM:+0800
TZOFFSETTO:+0800
TZNAME:CST
DTSTART:20230101T000000
END:STANDARD
END:VTIMEZONE
BEGIN:VEVENT
DTSTART;TZID=Asia/Shanghai:20240626T080000
DTEND;TZID=Asia/Shanghai:20240626T093000
DTSTAMP:20260420T103450
CREATED:20240616T233827Z
LAST-MODIFIED:20240616T233827Z
UID:6576-1719388800-1719394200@goolarri.com
SUMMARY:NAIDOC Community Breakfast
DESCRIPTION:Community breakfast to celebrate NAIDOC with all members of the community.
URL:https://goolarri.com/upcoming/naidoc-community-breakfast-2/
LOCATION:Father McMahon\, 25 Robinson Street\, Broome\, Australia
CATEGORIES:NAIDOC
END:VEVENT
BEGIN:VEVENT
DTSTART;TZID=Asia/Shanghai:20240626T100000
DTEND;TZID=Asia/Shanghai:20240626T110000
DTSTAMP:20260420T103450
CREATED:20240619T023541Z
LAST-MODIFIED:20240621T043114Z
UID:6598-1719396000-1719399600@goolarri.com
SUMMARY:Yawardani Jan-ga morning tea with the horses
DESCRIPTION:Join us for a special morning tea event. The event will embrace our connection to the gentle Yawardani Jan-ga horses\, as they help us come together for the betterment of Liyarn. This event aims to raise awareness of the Yawardani Jan-ga equine assistance program\, highlighting the positive impact that horses can have on the lives of our youth and elders. Discover the practical benefits of equine therapy\, which provides encouragement\, support\, and healing within the wider Indigenous community. \nDon’t miss this opportunity to celebrate our heritage and witness the profound impact of the equine assistance program.
URL:https://goolarri.com/upcoming/yawardani-jan-ga-morning-tea-with-the-horses/
LOCATION:548 Broome Road\, 548 Broome Road\, Broome\, wa\, Australia
CATEGORIES:NAIDOC
END:VEVENT
END:VCALENDAR