BEGIN:VCALENDAR
VERSION:2.0
PRODID:-//Goolarri Media - ECPv6.15.20//NONSGML v1.0//EN
CALSCALE:GREGORIAN
METHOD:PUBLISH
X-ORIGINAL-URL:https://goolarri.com
X-WR-CALDESC:Events for Goolarri Media
REFRESH-INTERVAL;VALUE=DURATION:PT1H
X-Robots-Tag:noindex
X-PUBLISHED-TTL:PT1H
BEGIN:VTIMEZONE
TZID:Asia/Shanghai
BEGIN:STANDARD
TZOFFSETFROM:+0800
TZOFFSETTO:+0800
TZNAME:CST
DTSTART:20230101T000000
END:STANDARD
END:VTIMEZONE
BEGIN:VEVENT
DTSTART;TZID=Asia/Shanghai:20240625T090000
DTEND;TZID=Asia/Shanghai:20240625T123000
DTSTAMP:20260420T084733
CREATED:20240620T022958Z
LAST-MODIFIED:20240620T022958Z
UID:6605-1719306000-1719318600@goolarri.com
SUMMARY:Broome's Early Years Network Group NAIDOC Celebration
DESCRIPTION:
URL:https://goolarri.com/upcoming/broomes-early-years-network-group-naidoc-celebration/
LOCATION:Our Mob Playgroup Centre\, 1 Dakas St\, Broome\, Western Australia\, 6725\, Australia
CATEGORIES:NAIDOC
END:VEVENT
END:VCALENDAR