BEGIN:VCALENDAR
VERSION:2.0
PRODID:-//Goolarri Media - ECPv6.15.20//NONSGML v1.0//EN
CALSCALE:GREGORIAN
METHOD:PUBLISH
X-ORIGINAL-URL:https://goolarri.com
X-WR-CALDESC:Events for Goolarri Media
REFRESH-INTERVAL;VALUE=DURATION:PT1H
X-Robots-Tag:noindex
X-PUBLISHED-TTL:PT1H
BEGIN:VTIMEZONE
TZID:Asia/Shanghai
BEGIN:STANDARD
TZOFFSETFROM:+0800
TZOFFSETTO:+0800
TZNAME:CST
DTSTART:20220101T000000
END:STANDARD
END:VTIMEZONE
BEGIN:VEVENT
DTSTART;TZID=Asia/Shanghai:20230629T103000
DTEND;TZID=Asia/Shanghai:20230629T140000
DTSTAMP:20260421T033850
CREATED:20230518T074657Z
LAST-MODIFIED:20230518T074658Z
UID:5392-1688034600-1688047200@goolarri.com
SUMMARY:KSGAC NAIDOC Open Day
DESCRIPTION:Join us for a delightful event filled with entertainment\, mouthwatering food\, and a variety of information stalls. Come along and enjoy a delightful morning tea featuring freshly baked damper and a selection of juicy fruit. For lunch\, we have a sizzling BBQ that will satisfy your taste buds\, and in the afternoon\, indulge in our famous cake during tea time. \nImmerse yourself in the enchanting melodies of local musicians\, who will entertain you with their captivating performances. Take a stroll through the information stalls\, where you can expand your knowledge and engage in enlightening conversations. And don’t forget to simply relax and soak up the beauty of our stunning grounds. \nJoin us for this fantastic Open Day and experience a perfect balance of entertainment\, delicious food\, and a serene atmosphere. We can’t wait to welcome you to our event!
URL:https://goolarri.com/upcoming/ksgac-naidoc-open-day/
LOCATION:KSGAC\, 28 Barker Street\, Broome\, WA\, 6725\, Australia
CATEGORIES:NAIDOC
END:VEVENT
END:VCALENDAR