BEGIN:VCALENDAR
VERSION:2.0
PRODID:-//Goolarri Media - ECPv6.15.20//NONSGML v1.0//EN
CALSCALE:GREGORIAN
METHOD:PUBLISH
X-ORIGINAL-URL:https://goolarri.com
X-WR-CALDESC:Events for Goolarri Media
REFRESH-INTERVAL;VALUE=DURATION:PT1H
X-Robots-Tag:noindex
X-PUBLISHED-TTL:PT1H
BEGIN:VTIMEZONE
TZID:Asia/Shanghai
BEGIN:STANDARD
TZOFFSETFROM:+0800
TZOFFSETTO:+0800
TZNAME:CST
DTSTART:20220101T000000
END:STANDARD
END:VTIMEZONE
BEGIN:VEVENT
DTSTART;TZID=Asia/Shanghai:20230628T100000
DTEND;TZID=Asia/Shanghai:20230628T113000
DTSTAMP:20260421T033454
CREATED:20230313T050234Z
LAST-MODIFIED:20230509T031621Z
UID:5000-1687946400-1687951800@goolarri.com
SUMMARY:University of Notre Dame NAIDOC morning tea
DESCRIPTION:The University of Notre Dame\, Broome Campus will be hosting a NAIDOC Morning Tea Event for our elders of the community and the public. \nMorning tea will be supplied\, we will have some activities and some entertainment.
URL:https://goolarri.com/upcoming/university-of-notre-dame-naidoc-morning-tea/
LOCATION:Notre Dame University\, Broome\, The Hall NDB10\, 88 Guy Street\, Broome\, WA\, 6725\, Australia
CATEGORIES:NAIDOC
END:VEVENT
END:VCALENDAR