BEGIN:VCALENDAR
VERSION:2.0
PRODID:-//Goolarri Media - ECPv6.15.20//NONSGML v1.0//EN
CALSCALE:GREGORIAN
METHOD:PUBLISH
X-WR-CALNAME:Goolarri Media
X-ORIGINAL-URL:https://goolarri.com
X-WR-CALDESC:Events for Goolarri Media
REFRESH-INTERVAL;VALUE=DURATION:PT1H
X-Robots-Tag:noindex
X-PUBLISHED-TTL:PT1H
BEGIN:VTIMEZONE
TZID:Asia/Shanghai
BEGIN:STANDARD
TZOFFSETFROM:+0800
TZOFFSETTO:+0800
TZNAME:CST
DTSTART:20220101T000000
END:STANDARD
END:VTIMEZONE
BEGIN:VEVENT
DTSTART;TZID=Asia/Shanghai:20230627T100000
DTEND;TZID=Asia/Shanghai:20230627T140000
DTSTAMP:20260421T034736
CREATED:20230510T064705Z
LAST-MODIFIED:20230510T064705Z
UID:5372-1687860000-1687874400@goolarri.com
SUMMARY:Following in Their Tracks
DESCRIPTION:A community event targeted at our elders to help them celebrate their knowledge and connect them to the younger generations.
URL:https://goolarri.com/upcoming/following-in-their-tracks/
LOCATION:Mamabulanjin\, dora street\, Broome\, WA\, 6725\, Australia
CATEGORIES:NAIDOC
END:VEVENT
END:VCALENDAR