BEGIN:VCALENDAR
VERSION:2.0
PRODID:-//Goolarri Media - ECPv6.15.20//NONSGML v1.0//EN
CALSCALE:GREGORIAN
METHOD:PUBLISH
X-WR-CALNAME:Goolarri Media
X-ORIGINAL-URL:https://goolarri.com
X-WR-CALDESC:Events for Goolarri Media
REFRESH-INTERVAL;VALUE=DURATION:PT1H
X-Robots-Tag:noindex
X-PUBLISHED-TTL:PT1H
BEGIN:VTIMEZONE
TZID:Asia/Shanghai
BEGIN:STANDARD
TZOFFSETFROM:+0800
TZOFFSETTO:+0800
TZNAME:CST
DTSTART:20230101T000000
END:STANDARD
END:VTIMEZONE
BEGIN:VEVENT
DTSTART;TZID=Asia/Shanghai:20240621T090000
DTEND;TZID=Asia/Shanghai:20240621T093000
DTSTAMP:20260420T070654
CREATED:20240527T031432Z
LAST-MODIFIED:20240619T140624Z
UID:6547-1718960400-1718962200@goolarri.com
SUMMARY:Kullarri NAIDOC Reconciliation Walk
DESCRIPTION:
URL:https://goolarri.com/upcoming/kullarri-naidoc-reconciliation-walk/
LOCATION:Starting outside NIAA Building\, 1 Short Street Broome\, Broome\, WA\, 6725\, Australia
CATEGORIES:NAIDOC
ORGANIZER;CN="Goolarri":MAILTO:reception@gme.com.au
END:VEVENT
BEGIN:VEVENT
DTSTART;TZID=Asia/Shanghai:20240621T093000
DTEND;TZID=Asia/Shanghai:20240621T110000
DTSTAMP:20260420T070654
CREATED:20240527T031531Z
LAST-MODIFIED:20240527T031531Z
UID:6549-1718962200-1718967600@goolarri.com
SUMMARY:Kullarri NAIDOC Opening Ceremony
DESCRIPTION:
URL:https://goolarri.com/upcoming/kullarri-naidoc-opening-ceremony/
LOCATION:Our Lady Queen of Peace Cathedral\, 32 Weld Street\, Broome\, WA\, 6725\, Australia
CATEGORIES:NAIDOC
ORGANIZER;CN="Goolarri":MAILTO:reception@gme.com.au
END:VEVENT
BEGIN:VEVENT
DTSTART;TZID=Asia/Shanghai:20240621T183000
DTEND;TZID=Asia/Shanghai:20240621T233000
DTSTAMP:20260420T070654
CREATED:20240616T233417Z
LAST-MODIFIED:20240616T233417Z
UID:6573-1718994600-1719012600@goolarri.com
SUMMARY:NAIDOC Country Music Night
DESCRIPTION:Come down to the Gimme Club on the opening night of the Kullarri NAIDOC festival to celebrate the First Nation’s contribution to the sound of the Kimberley. \n  \n$15 entry \n  \nDoors open 6:30pm
URL:https://goolarri.com/upcoming/naidoc-country-music-night-2/
LOCATION:Gimme Club\, Goolarri Media 7 Blackman Street\, Broome\, WA\, 6725\, Australia
CATEGORIES:NAIDOC
END:VEVENT
BEGIN:VEVENT
DTSTART;TZID=Asia/Shanghai:20240624T090000
DTEND;TZID=Asia/Shanghai:20240624T103000
DTSTAMP:20260420T070654
CREATED:20240620T022657Z
LAST-MODIFIED:20240620T022657Z
UID:6601-1719219600-1719225000@goolarri.com
SUMMARY:St Mary's College NAIDOC Liturgy an Morning Tea
DESCRIPTION:You are welcome to join our school comment to celebrate and recognise the history\, culture and achievements of Aboriginal and Torres Strait Islander peoples. \nSt Mary’s College Secondary Campus Undercover Area
URL:https://goolarri.com/upcoming/st-marys-college-naidoc-liturgy-an-morning-tea/
LOCATION:St Mary’s College Secondary
CATEGORIES:NAIDOC
END:VEVENT
BEGIN:VEVENT
DTSTART;TZID=Asia/Shanghai:20240624T093000
DTEND;TZID=Asia/Shanghai:20240624T110000
DTSTAMP:20260420T070654
CREATED:20240617T000426Z
LAST-MODIFIED:20240620T021641Z
UID:6588-1719221400-1719226800@goolarri.com
SUMMARY:Kids Storytime at Magabala
DESCRIPTION:Come down with your children to Magabala Books for a delightful reading of some of our children’s books. \n  \n 
URL:https://goolarri.com/upcoming/kids-storytime-at-magabala/
LOCATION:Magabala Books\, 1 Bagot Rd\, Broome\, WA\, 6725\, Australia
CATEGORIES:NAIDOC
END:VEVENT
BEGIN:VEVENT
DTSTART;TZID=Asia/Shanghai:20240625T090000
DTEND;TZID=Asia/Shanghai:20240625T123000
DTSTAMP:20260420T070654
CREATED:20240620T022958Z
LAST-MODIFIED:20240620T022958Z
UID:6605-1719306000-1719318600@goolarri.com
SUMMARY:Broome's Early Years Network Group NAIDOC Celebration
DESCRIPTION:
URL:https://goolarri.com/upcoming/broomes-early-years-network-group-naidoc-celebration/
LOCATION:Our Mob Playgroup Centre\, 1 Dakas St\, Broome\, Western Australia\, 6725\, Australia
CATEGORIES:NAIDOC
END:VEVENT
BEGIN:VEVENT
DTSTART;TZID=Asia/Shanghai:20240626T080000
DTEND;TZID=Asia/Shanghai:20240626T093000
DTSTAMP:20260420T070654
CREATED:20240616T233827Z
LAST-MODIFIED:20240616T233827Z
UID:6576-1719388800-1719394200@goolarri.com
SUMMARY:NAIDOC Community Breakfast
DESCRIPTION:Community breakfast to celebrate NAIDOC with all members of the community.
URL:https://goolarri.com/upcoming/naidoc-community-breakfast-2/
LOCATION:Father McMahon\, 25 Robinson Street\, Broome\, Australia
CATEGORIES:NAIDOC
END:VEVENT
BEGIN:VEVENT
DTSTART;TZID=Asia/Shanghai:20240626T100000
DTEND;TZID=Asia/Shanghai:20240626T110000
DTSTAMP:20260420T070654
CREATED:20240619T023541Z
LAST-MODIFIED:20240621T043114Z
UID:6598-1719396000-1719399600@goolarri.com
SUMMARY:Yawardani Jan-ga morning tea with the horses
DESCRIPTION:Join us for a special morning tea event. The event will embrace our connection to the gentle Yawardani Jan-ga horses\, as they help us come together for the betterment of Liyarn. This event aims to raise awareness of the Yawardani Jan-ga equine assistance program\, highlighting the positive impact that horses can have on the lives of our youth and elders. Discover the practical benefits of equine therapy\, which provides encouragement\, support\, and healing within the wider Indigenous community. \nDon’t miss this opportunity to celebrate our heritage and witness the profound impact of the equine assistance program.
URL:https://goolarri.com/upcoming/yawardani-jan-ga-morning-tea-with-the-horses/
LOCATION:548 Broome Road\, 548 Broome Road\, Broome\, wa\, Australia
CATEGORIES:NAIDOC
END:VEVENT
BEGIN:VEVENT
DTSTART;TZID=Asia/Shanghai:20240627T100000
DTEND;TZID=Asia/Shanghai:20240627T123000
DTSTAMP:20260420T070654
CREATED:20240527T005743Z
LAST-MODIFIED:20240527T050457Z
UID:6542-1719482400-1719491400@goolarri.com
SUMMARY:The University of Notre Dame Australia
DESCRIPTION:The university will host a morning tea event based on the 2024 NAIDOC theme. We will have a Welcome To Country by a Yawuru elder. A speech will be given from a guest speaker about the important of NAIDOC and the 2024 theme. Guests will be entertained with live music and will also participate in creating a collaborate art piece that will be displayed and featured at the University Campus.
URL:https://goolarri.com/upcoming/the-university-of-notre-dame-australia/
LOCATION:WA
CATEGORIES:NAIDOC
END:VEVENT
BEGIN:VEVENT
DTSTART;TZID=Asia/Shanghai:20240628T100000
DTEND;TZID=Asia/Shanghai:20240628T170000
DTSTAMP:20260420T070654
CREATED:20240617T030122Z
LAST-MODIFIED:20240617T030151Z
UID:6592-1719568800-1719594000@goolarri.com
SUMMARY:Ngan-ga Lani Nagula Junggubarri
DESCRIPTION:This will be a day to celebrate our Elders Coming together as a community to keep the fires burning with cultural hunting practices with damper making and other traditional practices. Food will also be provided for lunch and a light supper of fish\, crab and other traditional food\, whatever has been caught and shared for the evening.
URL:https://goolarri.com/upcoming/ngan-ga-lani-nagula-junggubarri-2/
LOCATION:Gabunyanya\, Crab Creek road\, Broome\, WA\, 6725\, Australia
CATEGORIES:NAIDOC
END:VEVENT
BEGIN:VEVENT
DTSTART;TZID=Asia/Shanghai:20240628T193000
DTEND;TZID=Asia/Shanghai:20240628T193000
DTSTAMP:20260420T070654
CREATED:20240617T000015Z
LAST-MODIFIED:20240617T000015Z
UID:6586-1719603000-1719603000@goolarri.com
SUMMARY:NAIDOC Football Match – Broome Saints v Penninsula Bombers
DESCRIPTION:The Kullarri NAIDOC Football Match is an annual tradition between two linked teams Broome Saints and Peninsula Bombers.  It’s in honour of NAIDOC week and is part of the scheduled WKFL matches.  This year there is not a Bombers Ladies team playing but they will be part of the support base for both Men’s teams playing.
URL:https://goolarri.com/upcoming/naidoc-football-match-broome-saints-v-penninsula-bombers-2/
LOCATION:BRAC\, Cable Beach Rd E\, Broome\, WA\, 6725\, Australia
CATEGORIES:NAIDOC
ORGANIZER;CN="Saints Football Club":MAILTO:peninsulabombers@gmail.com
END:VEVENT
BEGIN:VEVENT
DTSTART;TZID=Asia/Shanghai:20240629T190000
DTEND;TZID=Asia/Shanghai:20240629T233000
DTSTAMP:20260420T070654
CREATED:20240616T235551Z
LAST-MODIFIED:20240617T025649Z
UID:6584-1719687600-1719703800@goolarri.com
SUMMARY:Kullarri NAIDOC Festival Awards Night
DESCRIPTION:Join us for an extraordinary occasion where we come together to honor and uplift the unsung heroes in our communities. It’s a time to applaud their unwavering dedication and express our heartfelt appreciation for their tireless efforts in building a brighter future for all. \nStep into a world of elegance and glamour as we invite you to grace this spectacular event in your most exquisite cocktail dresses and dashing tuxedos. Prepare to be enthralled as the legendary local band\, Puertside\, sets the stage ablaze\, filling the air with irresistible rhythms that will make you dance the night away! \nGet ready to embark on an unforgettable journey from the moment the doors swing open at 7:00. Delight your taste buds with tantalizing cocktail cuisine and refreshing drinks\, as the excitement builds in anticipation of the upcoming awards ceremony. And when the clock strikes\, brace yourself for an enchanting live music performance that will ignite your soul. \nLet’s celebrate\, appreciate\, and create lasting memories together. This remarkable event is not to be missed!
URL:https://goolarri.com/upcoming/kullarri-naidoc-festival-awards-night-2/
LOCATION:Gimme Club\, Goolarri Media 7 Blackman Street\, Broome\, WA\, 6725\, Australia
CATEGORIES:NAIDOC
ORGANIZER;CN="Goolarri":MAILTO:reception@gme.com.au
END:VEVENT
END:VCALENDAR