BEGIN:VCALENDAR
VERSION:2.0
PRODID:-//Goolarri Media - ECPv6.15.20//NONSGML v1.0//EN
CALSCALE:GREGORIAN
METHOD:PUBLISH
X-WR-CALNAME:Goolarri Media
X-ORIGINAL-URL:https://goolarri.com
X-WR-CALDESC:Events for Goolarri Media
REFRESH-INTERVAL;VALUE=DURATION:PT1H
X-Robots-Tag:noindex
X-PUBLISHED-TTL:PT1H
BEGIN:VTIMEZONE
TZID:Asia/Shanghai
BEGIN:STANDARD
TZOFFSETFROM:+0800
TZOFFSETTO:+0800
TZNAME:CST
DTSTART:20220101T000000
END:STANDARD
END:VTIMEZONE
BEGIN:VEVENT
DTSTART;TZID=Asia/Shanghai:20230701T190000
DTEND;TZID=Asia/Shanghai:20230701T233000
DTSTAMP:20260421T020135
CREATED:20230502T073244Z
LAST-MODIFIED:20230623T055937Z
UID:5350-1688238000-1688254200@goolarri.com
SUMMARY:Kullarri NAIDOC Festival Awards Night
DESCRIPTION:Join us for an extraordinary occasion where we come together to honor and uplift the unsung heroes in our communities. It’s a time to applaud their unwavering dedication and express our heartfelt appreciation for their tireless efforts in building a brighter future for all. \nStep into a world of elegance and glamour as we invite you to grace this spectacular event in your most exquisite cocktail dresses and dashing tuxedos. Prepare to be enthralled as the legendary local band\, King of Hearts\, sets the stage ablaze\, filling the air with irresistible rhythms that will make you dance the night away! \nGet ready to embark on an unforgettable journey from the moment the doors swing open at 7:00. Delight your taste buds with tantalizing cocktail cuisine and refreshing drinks\, as the excitement builds in anticipation of the upcoming awards ceremony. And when the clock strikes\, brace yourself for an enchanting live music performance that will ignite your soul. \nLet’s celebrate\, appreciate\, and create lasting memories together. This remarkable event is not to be missed! \n  \n 
URL:https://goolarri.com/upcoming/kullarri-naidoc-festival-awards-night/
LOCATION:Gimme Club\, Goolarri Media 7 Blackman Street\, Broome\, WA\, 6725\, Australia
CATEGORIES:NAIDOC
ORGANIZER;CN="Goolarri":MAILTO:reception@gme.com.au
END:VEVENT
BEGIN:VEVENT
DTSTART;TZID=Asia/Shanghai:20230702T090000
DTEND;TZID=Asia/Shanghai:20230702T110000
DTSTAMP:20260421T020135
CREATED:20230509T025307Z
LAST-MODIFIED:20230509T030135Z
UID:5361-1688288400-1688295600@goolarri.com
SUMMARY:Missa Terra Spiritu Sancti\, 50 year Anniversary Morning Tea and Mass
DESCRIPTION:We Celebrate 50 years of the Miss Terra Spiritys Sancti (formally Missa Kimberley)\, Which was conceived and first celebrated in 1973 incorporating Indigenous language\, symbols and spirituality in Catholic mass. \n  \nMass begins at 9am followed by morning tea at 10am
URL:https://goolarri.com/upcoming/missa-terra-spiritu-sancti-50-year-anniversary-morning-tea-and-mass/
LOCATION:Our Lady Queen of Peace Cathedral\, 32 Weld Street\, Broome\, WA\, 6725\, Australia
CATEGORIES:NAIDOC
END:VEVENT
BEGIN:VEVENT
DTSTART;TZID=Asia/Shanghai:20230704T120000
DTEND;TZID=Asia/Shanghai:20230704T143000
DTSTAMP:20260421T020135
CREATED:20230510T065915Z
LAST-MODIFIED:20230510T065915Z
UID:5376-1688472000-1688481000@goolarri.com
SUMMARY:Aboriginal Hostels Limited's 50th Year Celebration
DESCRIPTION:Aboriginal Hostels Limited (AHL) celebrates its 50th Anniversary 1973 – 2023. AHL’s presence in the Kimberley has been been servicing First Nations People for more than 30 years. In particular\, the Broome Hostel specialises in hospitality and accommodation for the Renal and mainstream Medical needs. Today AHL Staff and its Service Providers invite the community to come and share with us our Milestone….Home Away From Home.
URL:https://goolarri.com/upcoming/aboriginal-hostels-limiteds-50th-year-celebration/
LOCATION:Broome Renal Hostel\, 52 Forrest Street\, Broome
CATEGORIES:NAIDOC
END:VEVENT
BEGIN:VEVENT
DTSTART;TZID=Asia/Shanghai:20230705T093000
DTEND;TZID=Asia/Shanghai:20230705T120000
DTSTAMP:20260421T020135
CREATED:20230518T074025Z
LAST-MODIFIED:20230518T074050Z
UID:5387-1688549400-1688558400@goolarri.com
SUMMARY:NAIDOC Community Breakfast
DESCRIPTION:Centacare Kimberley is thrilled to host a NAIDOC Breakfast\, creating an inclusive and heartfelt celebration that specifically pays tribute to the often overlooked elderly patrons of mainstream services. By integrating the event within the Homeless community\, Centacare Kimberley aims to extend the festivities to marginalized Country Men and Women who are already familiar with their services. The event will feature a diverse range of engaging activities\, including bush foods\, art\, music\, and more. The primary objectives are to highlight the theme “For our Elders\,” acknowledge the elderly Homeless Breakfast patrons\, showcase the program’s peacefulness to other organizations\, and promote NAIDOC celebrations for all attendees. It will be an enriching and enjoyable experience for everyone\, with a particular emphasis on providing Homeless Breakfast patrons a safe and relaxed environment where they can relish a hearty meal\, enjoy the music\, and actively participate in various activities.
URL:https://goolarri.com/upcoming/naidoc-community-breakfast/
LOCATION:25 Robinson St\, 25 Robinson Street\, Broome\, WA\, 6725\, Australia
CATEGORIES:NAIDOC
END:VEVENT
BEGIN:VEVENT
DTSTART;TZID=Asia/Shanghai:20230706T100000
DTEND;TZID=Asia/Shanghai:20230706T140000
DTSTAMP:20260421T020135
CREATED:20230509T031136Z
LAST-MODIFIED:20230526T030548Z
UID:5363-1688637600-1688652000@goolarri.com
SUMMARY:Marawirra  Mangeljagyi
DESCRIPTION:Coming together with our Elders on country to celebrate Yawuru culture\, stories and traditional activities.
URL:https://goolarri.com/upcoming/for-our-elders/
LOCATION:Minyirr Park\, Gantheume Pt Road\, Broome\, wa\, 6725\, Australia
CATEGORIES:NAIDOC
END:VEVENT
BEGIN:VEVENT
DTSTART;TZID=Asia/Shanghai:20230708T110000
DTEND;TZID=Asia/Shanghai:20230708T140000
DTSTAMP:20260421T020135
CREATED:20230619T041541Z
LAST-MODIFIED:20230619T041541Z
UID:5428-1688814000-1688824800@goolarri.com
SUMMARY:NAIDOC Family Fun Day
DESCRIPTION:This year’s NAIDOC theme is ‘For Our Elders’. At Germanus Kent House and Bran Nue Dae\, our Elders hold an important role in our community and prominent place in our home. This NAIDOC week\, we welcome the community into our home to connect with and celebrate our Elders. \nThis is a free event with kids activities\, traditional dancers\, live band\, food\, raffle and more. \n  \nThis is an alcohol free event.
URL:https://goolarri.com/upcoming/naidoc-family-fun-day/
LOCATION:Germanus Kent House
CATEGORIES:NAIDOC
END:VEVENT
END:VCALENDAR